BEGIN:VCALENDAR
VERSION:2.0
CALSCALE:GREGORIAN
PRODID:-//Diputació de Barcelona//DibaCMS//EN
BEGIN:VEVENT
UID:57752
DTSTAMP:20260420T063239
DTSTART:20240908T210000
DTEND:20240908T210000
SUMMARY:Veredicte de blaus i vermells
LOCATION:Plaça de l'Església.
En cas de pluja: Carpa del C/ Frederic Marès 
METHOD:PUBLISH
X-WR-CALNAME:info@llinarsdelvalles.cat
X-WR-TIMEZONE:Europe/Madrid
DESCRIPTION:Festa Major 2024

URI:https://www.llinarsdelvalles.cat/actualitat/agenda/veredicte-de-blaus-i-vermells.html
CLASS:PUBLIC
END:VEVENT
END:VCALENDAR
