BEGIN:VCALENDAR
VERSION:2.0
CALSCALE:GREGORIAN
PRODID:-//Diputació de Barcelona//DibaCMS//EN
BEGIN:VEVENT
UID:57753
DTSTAMP:20260419T222742
DTSTART:20240908T211500
DTEND:20240908T211500
SUMMARY:Gran Correfoc de Fi de Festa i Ballada del Corb "El Borni"
LOCATION:Plaça de l'Església.
En cas de pluja el correfoc es farà el dia 11 de setembre. 
METHOD:PUBLISH
X-WR-CALNAME:info@llinarsdelvalles.cat
X-WR-TIMEZONE:Europe/Madrid
DESCRIPTION:Festa Major 2024

URI:https://www.llinarsdelvalles.cat/actualitat/agenda/gran-correfoc-de-fi-de-festa-i-ballada-del-corb-el-borni.html
CLASS:PUBLIC
END:VEVENT
END:VCALENDAR
