BEGIN:VCALENDAR
VERSION:2.0
CALSCALE:GREGORIAN
PRODID:-//Diputació de Barcelona//DibaCMS//EN
BEGIN:VEVENT
UID:57754
DTSTAMP:20260419T211320
DTSTART:20240908T223000
DTEND:20240908T223000
SUMMARY:Gran Castell de Focs d'Artifici
LOCATION:Es recomana observar els focs des del parc dels Corbera. 
METHOD:PUBLISH
X-WR-CALNAME:info@llinarsdelvalles.cat
X-WR-TIMEZONE:Europe/Madrid
DESCRIPTION:La Pirotècnia Igual 1880 serà l'encarregada de disparar el Castell de Focs de Fi de Festa.

URI:https://www.llinarsdelvalles.cat/actualitat/agenda/gran-castell-de-focs-dartifici.html
CLASS:PUBLIC
END:VEVENT
END:VCALENDAR
