BEGIN:VCALENDAR
VERSION:2.0
CALSCALE:GREGORIAN
PRODID:-//Diputació de Barcelona//DibaCMS//EN
BEGIN:VEVENT
UID:57755
DTSTAMP:20260420T024829
DTSTART:20240910T163000
DTEND:20240910T190000
SUMMARY:Final de Tres Bandes torneig social de Festa Major
LOCATION:C/ de Ravalet, 15-17 08450 Llinars del Vallès
METHOD:PUBLISH
X-WR-CALNAME:info@llinarsdelvalles.cat
X-WR-TIMEZONE:Europe/Madrid
DESCRIPTION:Festa Major 2024

URI:https://www.llinarsdelvalles.cat/actualitat/agenda/final-de-tres-bandes-torneig-social-de-festa-major.html
CLASS:PUBLIC
END:VEVENT
END:VCALENDAR
