BEGIN:VCALENDAR
VERSION:2.0
CALSCALE:GREGORIAN
PRODID:-//Diputació de Barcelona//DibaCMS//EN
BEGIN:VEVENT
UID:57756
DTSTAMP:20260420T091722
DTSTART:20240910T200000
DTEND:20240910T200000
SUMMARY:Gimcana juvenil
LOCATION:Parc dels Corbera 
METHOD:PUBLISH
X-WR-CALNAME:info@llinarsdelvalles.cat
X-WR-TIMEZONE:Europe/Madrid
DESCRIPTION:Festa Major 2024

URI:https://www.llinarsdelvalles.cat/actualitat/agenda/gimcana-juvenil.html
CLASS:PUBLIC
END:VEVENT
END:VCALENDAR
