BEGIN:VCALENDAR
VERSION:2.0
CALSCALE:GREGORIAN
PRODID:-//Diputació de Barcelona//DibaCMS//EN
BEGIN:VEVENT
UID:57757
DTSTAMP:20260420T011119
DTSTART:20240910T213000
DTEND:20240910T213000
SUMMARY:Correboig amb la xaranga "Bandtorrats" i a continuació Nit del Correboig amb "Les Que Faltaband" i "Animal Show"
LOCATION:- Inici del Correboig a la plaça de la Vila.
- Nit del Correboig a la Carpa del c/ Frederic Marès. 
METHOD:PUBLISH
X-WR-CALNAME:info@llinarsdelvalles.cat
X-WR-TIMEZONE:Europe/Madrid
DESCRIPTION:21.30 h - Recollida d'obsequis
22 h - Inici

URI:https://www.llinarsdelvalles.cat/actualitat/agenda/correboig-amb-la-xaranga-bandtorrats-i-a-continuacio-nit-del-correboig-amb-les-que-faltaband-i-animal-show.html
CLASS:PUBLIC
END:VEVENT
END:VCALENDAR
