BEGIN:VCALENDAR
VERSION:2.0
CALSCALE:GREGORIAN
PRODID:-//Diputació de Barcelona//DibaCMS//EN
BEGIN:VEVENT
UID:57758
DTSTAMP:20260420T000622
DTSTART:20240911T093000
DTEND:20240911T133000
SUMMARY:Triangular Billar 4 modalitats Festa Major, Lliçà d'Amunt, Sant Feliu de Codines i Llinars del Vallès
LOCATION:C/ de Ravalet, 15-17 08450 Llinars del Vallès
METHOD:PUBLISH
X-WR-CALNAME:info@llinarsdelvalles.cat
X-WR-TIMEZONE:Europe/Madrid
DESCRIPTION:
URI:https://www.llinarsdelvalles.cat/actualitat/agenda/triangular-billar-4-modalitats-festa-major-llica-damunt-sant-feliu-de-codines-i-llinars-del-valles.html
CLASS:PUBLIC
END:VEVENT
END:VCALENDAR
