BEGIN:VCALENDAR
VERSION:2.0
CALSCALE:GREGORIAN
PRODID:-//Diputació de Barcelona//DibaCMS//EN
BEGIN:VEVENT
UID:57759
DTSTAMP:20260419T223356
DTSTART:20240911T100000
DTEND:20240911T100000
SUMMARY:Actes oficials de l'11 de setembre
LOCATION:Plaça dels Països Catalans.
En cas de pluja: Carpa del C/ Frederic Marès. 
METHOD:PUBLISH
X-WR-CALNAME:info@llinarsdelvalles.cat
X-WR-TIMEZONE:Europe/Madrid
DESCRIPTION:Diada Nacional de Catalunya.

URI:https://www.llinarsdelvalles.cat/actualitat/agenda/actes-oficials-de-l11-de-setembre.html
CLASS:PUBLIC
END:VEVENT
END:VCALENDAR
