BEGIN:VCALENDAR
VERSION:2.0
CALSCALE:GREGORIAN
PRODID:-//Diputació de Barcelona//DibaCMS//EN
BEGIN:VEVENT
UID:57760
DTSTAMP:20260419T224235
DTSTART:20240911T120000
DTEND:20240911T120000
SUMMARY:Diada Castellera a càrrec dels Xics de Granollers i els Gausacs de Sant Cugat
LOCATION:Plaça de la Vila 
METHOD:PUBLISH
X-WR-CALNAME:info@llinarsdelvalles.cat
X-WR-TIMEZONE:Europe/Madrid
DESCRIPTION:
URI:https://www.llinarsdelvalles.cat/actualitat/agenda/diada-castellera-a-carrec-dels-xics-de-granollers-i-els-gausacs-de-sant-cugat.html
CLASS:PUBLIC
END:VEVENT
END:VCALENDAR
