BEGIN:VCALENDAR
VERSION:2.0
CALSCALE:GREGORIAN
PRODID:-//Diputació de Barcelona//DibaCMS//EN
BEGIN:VEVENT
UID:57761
DTSTAMP:20260419T223431
DTSTART:20240911T120000
DTEND:20240911T120000
SUMMARY:Concurs de Paelles i Dinar de Germanor
LOCATION:Passeig Lluís Companys.
En cas de pluja l'acte s'anul·la. 
METHOD:PUBLISH
X-WR-CALNAME:info@llinarsdelvalles.cat
X-WR-TIMEZONE:Europe/Madrid
DESCRIPTION:
URI:https://www.llinarsdelvalles.cat/actualitat/agenda/57761-concurs-de-paelles-i-dinar-de-germanor.html
CLASS:PUBLIC
END:VEVENT
END:VCALENDAR
