BEGIN:VCALENDAR
VERSION:2.0
CALSCALE:GREGORIAN
PRODID:-//Diputació de Barcelona//DibaCMS//EN
BEGIN:VEVENT
UID:57763
DTSTAMP:20260421T053822
DTSTART:20240913T220000
DTEND:20240913T220000
SUMMARY:Observació de la Lluna
LOCATION:08450 Llinars del Vallès
METHOD:PUBLISH
X-WR-CALNAME:info@llinarsdelvalles.cat
X-WR-TIMEZONE:Europe/Madrid
DESCRIPTION:Commemorem el Dia Internacional d'Observació de la Lluna.

URI:https://www.llinarsdelvalles.cat/actualitat/agenda/observacio-de-la-lluna.html
CLASS:PUBLIC
END:VEVENT
END:VCALENDAR
