BEGIN:VCALENDAR
VERSION:2.0
CALSCALE:GREGORIAN
PRODID:-//Diputació de Barcelona//DibaCMS//EN
BEGIN:VEVENT
UID:57764
DTSTAMP:20260420T090506
DTSTART:20240914T120000
DTEND:20240914T120000
SUMMARY:Classe oberta de Taitxi
LOCATION:Pineda del Castell Nou 
METHOD:PUBLISH
X-WR-CALNAME:info@llinarsdelvalles.cat
X-WR-TIMEZONE:Europe/Madrid
DESCRIPTION:Organitza: Associació Dones de Llinars.

URI:https://www.llinarsdelvalles.cat/actualitat/agenda/classe-oberta-de-taitxi.html
CLASS:PUBLIC
END:VEVENT
END:VCALENDAR
