BEGIN:VCALENDAR
VERSION:2.0
CALSCALE:GREGORIAN
PRODID:-//Diputació de Barcelona//DibaCMS//EN
BEGIN:VEVENT
UID:57765
DTSTAMP:20260419T222527
DTSTART:20240914T180000
DTEND:20240914T180000
SUMMARY:Solo Flow Freestyle Show
LOCATION:Plaça dels Països Catalans 
METHOD:PUBLISH
X-WR-CALNAME:info@llinarsdelvalles.cat
X-WR-TIMEZONE:Europe/Madrid
DESCRIPTION:
URI:https://www.llinarsdelvalles.cat/actualitat/agenda/solo-flow-freestyle-show.html
CLASS:PUBLIC
END:VEVENT
END:VCALENDAR
