BEGIN:VCALENDAR
VERSION:2.0
CALSCALE:GREGORIAN
PRODID:-//Diputació de Barcelona//DibaCMS//EN
BEGIN:VEVENT
UID:57766
DTSTAMP:20260420T011431
DTSTART:20240914T200000
DTEND:20240914T200000
SUMMARY:Acte de Reconeixement als i les esportistes de Llinars
LOCATION:Av. Pau Casals, 22-24 (Àrea central) 08450 Llinars del Vallès
METHOD:PUBLISH
X-WR-CALNAME:info@llinarsdelvalles.cat
X-WR-TIMEZONE:Europe/Madrid
DESCRIPTION:
URI:https://www.llinarsdelvalles.cat/actualitat/agenda/acte-de-reconeixement-als-i-les-esportistes-de-llinars.html
CLASS:PUBLIC
END:VEVENT
END:VCALENDAR
