BEGIN:VCALENDAR
VERSION:2.0
CALSCALE:GREGORIAN
PRODID:-//Diputació de Barcelona//DibaCMS//EN
BEGIN:VEVENT
UID:57767
DTSTAMP:20260420T091132
DTSTART:20240914T220000
DTEND:20240914T220000
SUMMARY:Concert de la Clàssic Jazz a càrrec de Clàudia Bosch
LOCATION:08450 Llinars del Vallès
METHOD:PUBLISH
X-WR-CALNAME:info@llinarsdelvalles.cat
X-WR-TIMEZONE:Europe/Madrid
DESCRIPTION:
URI:https://www.llinarsdelvalles.cat/actualitat/agenda/concert-de-la-classic-jazz-a-carrec-de-claudia-bosch.html
CLASS:PUBLIC
END:VEVENT
END:VCALENDAR
