BEGIN:VCALENDAR
VERSION:2.0
CALSCALE:GREGORIAN
PRODID:-//Diputació de Barcelona//DibaCMS//EN
BEGIN:VEVENT
UID:57787
DTSTAMP:20260420T024538
DTSTART:20240907T000000
DTEND:20240929T000000
SUMMARY:Exposició 'En Essència' de Pep Anton Xaus
LOCATION:
METHOD:PUBLISH
X-WR-CALNAME:info@llinarsdelvalles.cat
X-WR-TIMEZONE:Europe/Madrid
DESCRIPTION:A l'Espai Ruscalleda Art.

URI:https://www.llinarsdelvalles.cat/actualitat/agenda/exposicio-en-essencia-de-pep-anton-xaus.html
CLASS:PUBLIC
END:VEVENT
END:VCALENDAR
