BEGIN:VCALENDAR
VERSION:2.0
CALSCALE:GREGORIAN
PRODID:-//Diputació de Barcelona//DibaCMS//EN
BEGIN:VEVENT
UID:57788
DTSTAMP:20260419T222603
DTSTART:20240921T190000
DTEND:20240921T190000
SUMMARY:'Un Tast Líric' de Visi Palacin
LOCATION:
METHOD:PUBLISH
X-WR-CALNAME:info@llinarsdelvalles.cat
X-WR-TIMEZONE:Europe/Madrid
DESCRIPTION:Actuació d'aquesta meravellosa soprano sota el marc de l'exposició 'En Essència' de Pep Anton Xaus.

URI:https://www.llinarsdelvalles.cat/actualitat/agenda/un-tast-liric-de-visi-palacin.html
CLASS:PUBLIC
END:VEVENT
END:VCALENDAR
