BEGIN:VCALENDAR
VERSION:2.0
CALSCALE:GREGORIAN
PRODID:-//Diputació de Barcelona//DibaCMS//EN
BEGIN:VEVENT
UID:57801
DTSTAMP:20260421T023726
DTSTART:20241002T183000
DTEND:20241002T183000
SUMMARY:Taller adults - Reconciliació
LOCATION:Av. Pau Casals, 26 08450 Llinars del Vallès
METHOD:PUBLISH
X-WR-CALNAME:info@llinarsdelvalles.cat
X-WR-TIMEZONE:Europe/Madrid
DESCRIPTION:A càrrec de Clara Palacios i Núria Bonada. Dia Internacional de la NO violència.

URI:https://www.llinarsdelvalles.cat/actualitat/agenda/taller-adults-reconciliacio.html
CLASS:PUBLIC
END:VEVENT
END:VCALENDAR
