BEGIN:VCALENDAR
VERSION:2.0
CALSCALE:GREGORIAN
PRODID:-//Diputació de Barcelona//DibaCMS//EN
BEGIN:VEVENT
UID:57815
DTSTAMP:20260419T195718
DTSTART:20241010T164500
DTEND:20241010T190000
SUMMARY:A totes per la salut mental
LOCATION:Plaça dels Països Catalans 
METHOD:PUBLISH
X-WR-CALNAME:info@llinarsdelvalles.cat
X-WR-TIMEZONE:Europe/Madrid
DESCRIPTION:En commemoració del Dia Mundial de la Salut Mental.

URI:https://www.llinarsdelvalles.cat/actualitat/agenda/a-totes-per-la-salut-mental.html
CLASS:PUBLIC
END:VEVENT
END:VCALENDAR
