BEGIN:VCALENDAR
VERSION:2.0
CALSCALE:GREGORIAN
PRODID:-//Diputació de Barcelona//DibaCMS//EN
BEGIN:VEVENT
UID:57820
DTSTAMP:20260419T195500
DTSTART:20241030T183000
DTEND:20241030T183000
SUMMARY:Teatre - Monòleg a la plaça
LOCATION:Av. Pau Casals, 26 08450 Llinars del Vallès
METHOD:PUBLISH
X-WR-CALNAME:info@llinarsdelvalles.cat
X-WR-TIMEZONE:Europe/Madrid
DESCRIPTION:A càrrec de la companyia Nus Cooperativa.

URI:https://www.llinarsdelvalles.cat/actualitat/agenda/teatre-monoleg-a-la-placa.html
CLASS:PUBLIC
END:VEVENT
END:VCALENDAR
