BEGIN:VCALENDAR
VERSION:2.0
CALSCALE:GREGORIAN
PRODID:-//Diputació de Barcelona//DibaCMS//EN
BEGIN:VEVENT
UID:57822
DTSTAMP:20260419T223507
DTSTART:20241028T000000
DTEND:20241115T000000
SUMMARY:Exposició km0 - La Maso Art on Fire!
LOCATION:Av. Pau Casals, 26 08450 Llinars del Vallès
METHOD:PUBLISH
X-WR-CALNAME:info@llinarsdelvalles.cat
X-WR-TIMEZONE:Europe/Madrid
DESCRIPTION:Il·lustracions de joves del taller d'il·lustració i manga del curs 2023/24. Alumnes de Laura Cáceres a La Masoveria.

URI:https://www.llinarsdelvalles.cat/actualitat/agenda/exposicio-km0-la-maso-art-on-fire.html
CLASS:PUBLIC
END:VEVENT
END:VCALENDAR
