BEGIN:VCALENDAR
VERSION:2.0
CALSCALE:GREGORIAN
PRODID:-//Diputació de Barcelona//DibaCMS//EN
BEGIN:VEVENT
UID:57823
DTSTAMP:20260420T024743
DTSTART:20241025T170000
DTEND:20241025T170000
SUMMARY:Hora del conte - La néta de la Castanyera
LOCATION:Av. Pau Casals, 26 08450 Llinars del Vallès
METHOD:PUBLISH
X-WR-CALNAME:info@llinarsdelvalles.cat
X-WR-TIMEZONE:Europe/Madrid
DESCRIPTION:A càrrec de Cristina Noguer

URI:https://www.llinarsdelvalles.cat/actualitat/agenda/hora-del-conte-la-neta-de-la-castanyera.html
CLASS:PUBLIC
END:VEVENT
END:VCALENDAR
