BEGIN:VCALENDAR
VERSION:2.0
CALSCALE:GREGORIAN
PRODID:-//Diputació de Barcelona//DibaCMS//EN
BEGIN:VEVENT
UID:57824
DTSTAMP:20260419T182831
DTSTART:20241026T110000
DTEND:20241026T110000
SUMMARY:Hora menuda - L'Hora del bany
LOCATION:Av. Pau Casals, 26 08450 Llinars del Vallès
METHOD:PUBLISH
X-WR-CALNAME:info@llinarsdelvalles.cat
X-WR-TIMEZONE:Europe/Madrid
DESCRIPTION:A càrrec de la Cia Patawa.

URI:https://www.llinarsdelvalles.cat/actualitat/agenda/57824-hora-menuda-lhora-del-bany.html
CLASS:PUBLIC
END:VEVENT
END:VCALENDAR
