BEGIN:VCALENDAR
VERSION:2.0
CALSCALE:GREGORIAN
PRODID:-//Diputació de Barcelona//DibaCMS//EN
BEGIN:VEVENT
UID:57828
DTSTAMP:20260419T182930
DTSTART:20241018T190000
DTEND:20241018T190000
SUMMARY:Taller de gongs
LOCATION:C/ Ramon i Cajal - (cantonada Av. Granollers) 08450 Llinars del Vallés
METHOD:PUBLISH
X-WR-CALNAME:info@llinarsdelvalles.cat
X-WR-TIMEZONE:Europe/Madrid
DESCRIPTION:Impartit per Montse Terrades, gonguer i formadora en tècniques vibracionals.

URI:https://www.llinarsdelvalles.cat/actualitat/agenda/taller-de-gongs.html
CLASS:PUBLIC
END:VEVENT
END:VCALENDAR
