BEGIN:VCALENDAR
VERSION:2.0
CALSCALE:GREGORIAN
PRODID:-//Diputació de Barcelona//DibaCMS//EN
BEGIN:VEVENT
UID:57829
DTSTAMP:20260420T012700
DTSTART:20241019T170000
DTEND:20241020T030000
SUMMARY:La Maso Urban - Jornada d'art urbà
LOCATION:Carpa del carrer Frederic Marès 
METHOD:PUBLISH
X-WR-CALNAME:info@llinarsdelvalles.cat
X-WR-TIMEZONE:Europe/Madrid
DESCRIPTION:
URI:https://www.llinarsdelvalles.cat/actualitat/agenda/la-maso-urban-jornada-dart-urba.html
CLASS:PUBLIC
END:VEVENT
END:VCALENDAR
