BEGIN:VCALENDAR
VERSION:2.0
CALSCALE:GREGORIAN
PRODID:-//Diputació de Barcelona//DibaCMS//EN
BEGIN:VEVENT
UID:57833
DTSTAMP:20260419T200125
DTSTART:20241103T180000
DTEND:20241103T200000
SUMMARY:Ballada de sardanes amb la Cobla Genisenca
LOCATION:Plaça dels Països Catalans. 
METHOD:PUBLISH
X-WR-CALNAME:info@llinarsdelvalles.cat
X-WR-TIMEZONE:Europe/Madrid
DESCRIPTION:
URI:https://www.llinarsdelvalles.cat/actualitat/agenda/57833-ballada-de-sardanes-amb-la-cobla-genisenca.html
CLASS:PUBLIC
END:VEVENT
END:VCALENDAR
