BEGIN:VCALENDAR
VERSION:2.0
CALSCALE:GREGORIAN
PRODID:-//Diputació de Barcelona//DibaCMS//EN
BEGIN:VEVENT
UID:57834
DTSTAMP:20260420T040014
DTSTART:20241020T120000
DTEND:20241020T120000
SUMMARY:26è cicle de concerts a Sanata "Sonant Sanata"
LOCATION:08450 Llinars del Vallès
METHOD:PUBLISH
X-WR-CALNAME:info@llinarsdelvalles.cat
X-WR-TIMEZONE:Europe/Madrid
DESCRIPTION:A càrrec d'Ensemble Sanata, amb obres de JS. Bach i altres compositors del barroc.

URI:https://www.llinarsdelvalles.cat/actualitat/agenda/26e-cicle-de-concerts-a-sanata-sonant-sanata.html
CLASS:PUBLIC
END:VEVENT
END:VCALENDAR
