BEGIN:VCALENDAR
VERSION:2.0
CALSCALE:GREGORIAN
PRODID:-//Diputació de Barcelona//DibaCMS//EN
BEGIN:VEVENT
UID:57843
DTSTAMP:20260420T034321
DTSTART:20240928T000000
DTEND:20241028T000000
SUMMARY:Exposició Dibuixos de Llinars de 1910
LOCATION:C/ Ramon i Cajal - (cantonada Av. Granollers) 08450 Llinars del Vallés
METHOD:PUBLISH
X-WR-CALNAME:info@llinarsdelvalles.cat
X-WR-TIMEZONE:Europe/Madrid
DESCRIPTION:A càrrec de Víctor Busquets.

URI:https://www.llinarsdelvalles.cat/actualitat/agenda/exposicio-dibuixos-de-llinars-de-1910.html
CLASS:PUBLIC
END:VEVENT
END:VCALENDAR
