BEGIN:VCALENDAR
VERSION:2.0
CALSCALE:GREGORIAN
PRODID:-//Diputació de Barcelona//DibaCMS//EN
BEGIN:VEVENT
UID:57845
DTSTAMP:20260419T183607
DTSTART:20241020T110000
DTEND:20241020T110000
SUMMARY:Mogent en família "AuGust" amb la companyia Balagans
LOCATION:Afores s/n 08450 Llinars del Vallès
METHOD:PUBLISH
X-WR-CALNAME:info@llinarsdelvalles.cat
X-WR-TIMEZONE:Europe/Madrid
DESCRIPTION:Tallers de circ, espectacle en família, música en directe i animació familiar a la Carpa de la casa de colònies Mogent.

URI:https://www.llinarsdelvalles.cat/actualitat/agenda/mogent-en-familia-august-amb-la-companyia-balagans.html
CLASS:PUBLIC
END:VEVENT
END:VCALENDAR
