BEGIN:VCALENDAR
VERSION:2.0
CALSCALE:GREGORIAN
PRODID:-//Diputació de Barcelona//DibaCMS//EN
BEGIN:VEVENT
UID:57846
DTSTAMP:20260419T235657
DTSTART:20241025T170000
DTEND:20241025T170000
SUMMARY:Tallers en família "Panellets"
LOCATION:C/ Josep Argila, 39 08450 Llinars del Vallés
METHOD:PUBLISH
X-WR-CALNAME:info@llinarsdelvalles.cat
X-WR-TIMEZONE:Europe/Madrid
DESCRIPTION:De 4 a 11 anys.

URI:https://www.llinarsdelvalles.cat/actualitat/agenda/tallers-en-familia-panellets.html
CLASS:PUBLIC
END:VEVENT
END:VCALENDAR
