BEGIN:VCALENDAR
VERSION:2.0
CALSCALE:GREGORIAN
PRODID:-//Diputació de Barcelona//DibaCMS//EN
BEGIN:VEVENT
UID:57855
DTSTAMP:20260421T141203
DTSTART:20241114T180000
DTEND:20241114T180000
SUMMARY:Taller adults "Torrons" a càrrec d'Anna Colomer
LOCATION:Av. Pau Casals, 26 08450 Llinars del Vallès
METHOD:PUBLISH
X-WR-CALNAME:info@llinarsdelvalles.cat
X-WR-TIMEZONE:Europe/Madrid
DESCRIPTION:Parcs i biblioteques... naturalment!

URI:https://www.llinarsdelvalles.cat/actualitat/agenda/taller-adults-torrons-a-carrec-danna-colomer.html
CLASS:PUBLIC
END:VEVENT
END:VCALENDAR
