BEGIN:VCALENDAR
VERSION:2.0
CALSCALE:GREGORIAN
PRODID:-//Diputació de Barcelona//DibaCMS//EN
BEGIN:VEVENT
UID:57856
DTSTAMP:20260421T141321
DTSTART:20241115T170000
DTEND:20241115T170000
SUMMARY:Taller familiar "Descobrim el món de les abelles i fem una espelma"
LOCATION:Av. Pau Casals, 26 08450 Llinars del Vallès
METHOD:PUBLISH
X-WR-CALNAME:info@llinarsdelvalles.cat
X-WR-TIMEZONE:Europe/Madrid
DESCRIPTION:Parcs i biblioteques... naturalment!

URI:https://www.llinarsdelvalles.cat/actualitat/agenda/taller-familiar-descobrim-el-mon-de-les-abelles-i-fem-una-espelma.html
CLASS:PUBLIC
END:VEVENT
END:VCALENDAR
