BEGIN:VCALENDAR
VERSION:2.0
CALSCALE:GREGORIAN
PRODID:-//Diputació de Barcelona//DibaCMS//EN
BEGIN:VEVENT
UID:57876
DTSTAMP:20260421T141132
DTSTART:20241116T180000
DTEND:20241117T120000
SUMMARY:Encuentros en la Tercera Edad (microteatre)
LOCATION:C/ Josep Argila, 39 08450 Llinars del Vallés
METHOD:PUBLISH
X-WR-CALNAME:info@llinarsdelvalles.cat
X-WR-TIMEZONE:Europe/Madrid
DESCRIPTION:Les sales de Can Lletres es transformen en escenari teatral de la mà del Till-Tall que us ofereix dues peces de microteatre un xic especials.
Tres sessions: dissabte, 16 de novembre, a les 18 i a les 20 h, i diumenge, 17 de novembre, a les 12 h.

URI:https://www.llinarsdelvalles.cat/actualitat/agenda/encuentros-en-la-tercera-edad-microteatre.html
CLASS:PUBLIC
END:VEVENT
END:VCALENDAR
