BEGIN:VCALENDAR
VERSION:2.0
CALSCALE:GREGORIAN
PRODID:-//Diputació de Barcelona//DibaCMS//EN
BEGIN:VEVENT
UID:57878
DTSTAMP:20260421T165210
DTSTART:20241122T170000
DTEND:20241122T170000
SUMMARY:Hora del Conte "Ei, que estimar no fa mal"
LOCATION:Av. Pau Casals, 26 08450 Llinars del Vallès
METHOD:PUBLISH
X-WR-CALNAME:info@llinarsdelvalles.cat
X-WR-TIMEZONE:Europe/Madrid
DESCRIPTION:En el marc del 25N, Dia Internacional per l'Erradicació de la Violència vers les Dones, a càrrec de Raig de Sol Contes.

URI:https://www.llinarsdelvalles.cat/actualitat/agenda/hora-del-conte-ei-que-estimar-no-fa-mal.html
CLASS:PUBLIC
END:VEVENT
END:VCALENDAR
