BEGIN:VCALENDAR
VERSION:2.0
CALSCALE:GREGORIAN
PRODID:-//Diputació de Barcelona//DibaCMS//EN
BEGIN:VEVENT
UID:57883
DTSTAMP:20260420T012237
DTSTART:20241129T183000
DTEND:20241129T183000
SUMMARY:Trobada amb l'autora Glòria de Castro "L'instant abans de l'impacte"
LOCATION:Av. Pau Casals, 26 08450 Llinars del Vallès
METHOD:PUBLISH
X-WR-CALNAME:info@llinarsdelvalles.cat
X-WR-TIMEZONE:Europe/Madrid
DESCRIPTION:Club de lectura feminista.

URI:https://www.llinarsdelvalles.cat/actualitat/agenda/trobada-amb-lautora-gloria-de-castro-linstant-abans-de-limpacte.html
CLASS:PUBLIC
END:VEVENT
END:VCALENDAR
