BEGIN:VCALENDAR
VERSION:2.0
CALSCALE:GREGORIAN
PRODID:-//Diputació de Barcelona//DibaCMS//EN
BEGIN:VEVENT
UID:57924
DTSTAMP:20260421T151121
DTSTART:20241213T193000
DTEND:20241213T210000
SUMMARY:Concert de la pianista Emma Stratton
LOCATION:
METHOD:PUBLISH
X-WR-CALNAME:info@llinarsdelvalles.cat
X-WR-TIMEZONE:Europe/Madrid
DESCRIPTION:'Pathos', a la Sala Tallers del Teatre Auditori de Llinars

Entrada: 15 euros / Abonaments: 50 euros

Entrades anticipades a www.entrapolis.com

Organitza: APOC (Associació Popular Concerts) i Joventuts Musicals del Baix Montseny

URI:https://www.llinarsdelvalles.cat/actualitat/agenda/concert-de-la-pianista-emma-stratton.html
CLASS:PUBLIC
END:VEVENT
END:VCALENDAR
