BEGIN:VCALENDAR
VERSION:2.0
CALSCALE:GREGORIAN
PRODID:-//Diputació de Barcelona//DibaCMS//EN
BEGIN:VEVENT
UID:57957
DTSTAMP:20260421T170839
DTSTART:20250112T000000
DTEND:20250223T000000
SUMMARY:Nova exposició a l'Espai d'Art Llinars
LOCATION:C/ Frederic Marés (antic CAP) 08450 Llinars del Vallès
METHOD:PUBLISH
X-WR-CALNAME:info@llinarsdelvalles.cat
X-WR-TIMEZONE:Europe/Madrid
DESCRIPTION:Ingràvids, d'Albert Rocarols.

URI:https://www.llinarsdelvalles.cat/actualitat/agenda/nova-exposicio-a-lespai-dart-llinars.html
CLASS:PUBLIC
END:VEVENT
END:VCALENDAR
