BEGIN:VCALENDAR
VERSION:2.0
CALSCALE:GREGORIAN
PRODID:-//Diputació de Barcelona//DibaCMS//EN
BEGIN:VEVENT
UID:57992
DTSTAMP:20260421T170559
DTSTART:20250330T180000
DTEND:20250330T200000
SUMMARY:Cinexic: 'Petzi i la mar salada'
LOCATION:08450 Llinars del Vallès
METHOD:PUBLISH
X-WR-CALNAME:info@llinarsdelvalles.cat
X-WR-TIMEZONE:Europe/Madrid
DESCRIPTION:Lloc: Centre Excursionista de Llinars (Plaça Països Catalans)

 

URI:https://www.llinarsdelvalles.cat/actualitat/agenda/cinexic-petzi-i-la-mar-salada.html
CLASS:PUBLIC
END:VEVENT
END:VCALENDAR
