BEGIN:VCALENDAR
VERSION:2.0
CALSCALE:GREGORIAN
PRODID:-//Diputació de Barcelona//DibaCMS//EN
BEGIN:VEVENT
UID:57997
DTSTAMP:20260421T111113
DTSTART:20250203T000000
DTEND:20250331T000000
SUMMARY:Activa't febrer març 2025
LOCATION:Av. Pau Casals, 22-24 (Àrea central) 08450 Llinars del Vallès
METHOD:PUBLISH
X-WR-CALNAME:info@llinarsdelvalles.cat
X-WR-TIMEZONE:Europe/Madrid
DESCRIPTION:Activitat gratuït, sense inscripció prèvia.

URI:https://www.llinarsdelvalles.cat/actualitat/agenda/activat-febrer-marc-2025.html
CLASS:PUBLIC
END:VEVENT
END:VCALENDAR
