BEGIN:VCALENDAR
VERSION:2.0
CALSCALE:GREGORIAN
PRODID:-//Diputació de Barcelona//DibaCMS//EN
BEGIN:VEVENT
UID:57998
DTSTAMP:20260421T113922
DTSTART:20250203T000000
DTEND:20250227T000000
SUMMARY:Exposició - Penso, miro i treballo: pintura i gravats
LOCATION:Av. Pau Casals, 26 08450 Llinars del Vallès
METHOD:PUBLISH
X-WR-CALNAME:info@llinarsdelvalles.cat
X-WR-TIMEZONE:Europe/Madrid
DESCRIPTION:A càrrec de Lluís Vallmitjana Mula.
Inauguració: 8 de febrer a les 12.30 h.

URI:https://www.llinarsdelvalles.cat/actualitat/agenda/exposicio-penso-miro-i-treballo-pintura-i-gravats.html
CLASS:PUBLIC
END:VEVENT
END:VCALENDAR
