BEGIN:VCALENDAR
VERSION:2.0
CALSCALE:GREGORIAN
PRODID:-//Diputació de Barcelona//DibaCMS//EN
BEGIN:VEVENT
UID:58003
DTSTAMP:20260421T113658
DTSTART:20250206T180000
DTEND:20250206T193000
SUMMARY:Taller adults - Ambientadors naturals
LOCATION:Av. Pau Casals, 26 08450 Llinars del Vallès
METHOD:PUBLISH
X-WR-CALNAME:info@llinarsdelvalles.cat
X-WR-TIMEZONE:Europe/Madrid
DESCRIPTION:A càrrec de Los Jabones de Luna.

URI:https://www.llinarsdelvalles.cat/actualitat/agenda/taller-adults-ambientadors-naturals.html
CLASS:PUBLIC
END:VEVENT
END:VCALENDAR
