BEGIN:VCALENDAR
VERSION:2.0
CALSCALE:GREGORIAN
PRODID:-//Diputació de Barcelona//DibaCMS//EN
BEGIN:VEVENT
UID:58023
DTSTAMP:20260421T141522
DTSTART:20250227T000000
DTEND:20250305T000000
SUMMARY:Carnaval 2025 i Ballada de Gitanes
LOCATION:
METHOD:PUBLISH
X-WR-CALNAME:info@llinarsdelvalles.cat
X-WR-TIMEZONE:Europe/Madrid
DESCRIPTION:Consulta tota la informació en aquest enllaç.

URI:https://www.llinarsdelvalles.cat/actualitat/agenda/carnaval-2025-i-ballada-de-gitanes.html
CLASS:PUBLIC
END:VEVENT
END:VCALENDAR
