BEGIN:VCALENDAR
VERSION:2.0
CALSCALE:GREGORIAN
PRODID:-//Diputació de Barcelona//DibaCMS//EN
BEGIN:VEVENT
UID:58090
DTSTAMP:20260421T165859
DTSTART:20250406T170000
DTEND:20250406T170000
SUMMARY:Un Sant Jordi amb molta gresca
LOCATION:C/ Ramon i Cajal - (cantonada Av. Granollers) 08450 Llinars del Vallés
METHOD:PUBLISH
X-WR-CALNAME:info@llinarsdelvalles.cat
X-WR-TIMEZONE:Europe/Madrid
DESCRIPTION:
URI:https://www.llinarsdelvalles.cat/actualitat/agenda/un-sant-jordi-amb-molta-gresca.html
CLASS:PUBLIC
END:VEVENT
END:VCALENDAR
