BEGIN:VCALENDAR
VERSION:2.0
CALSCALE:GREGORIAN
PRODID:-//Diputació de Barcelona//DibaCMS//EN
BEGIN:VEVENT
UID:58104
DTSTAMP:20260421T154028
DTSTART:20250412T173000
DTEND:20250412T223000
SUMMARY:40è aniversari La Piula
LOCATION:
METHOD:PUBLISH
X-WR-CALNAME:info@llinarsdelvalles.cat
X-WR-TIMEZONE:Europe/Madrid
DESCRIPTION:El Ball de Diables La Piula commemora aquest 2025 el seu 40è aniversari el dissabte 12 d'abril. 

 

URI:https://www.llinarsdelvalles.cat/actualitat/agenda/40e-aniversari-la-piula.html
CLASS:PUBLIC
END:VEVENT
END:VCALENDAR
