BEGIN:VCALENDAR
VERSION:2.0
CALSCALE:GREGORIAN
PRODID:-//Diputació de Barcelona//DibaCMS//EN
BEGIN:VEVENT
UID:58106
DTSTAMP:20260421T170538
DTSTART:20250411T170000
DTEND:20250411T183000
SUMMARY:Taller de cuina: Mona de Pasqua
LOCATION:C/ Josep Argila, 39 08450 Llinars del Vallés
METHOD:PUBLISH
X-WR-CALNAME:info@llinarsdelvalles.cat
X-WR-TIMEZONE:Europe/Madrid
DESCRIPTION:A càrrec de Dos quarts de cinc.

URI:https://www.llinarsdelvalles.cat/actualitat/agenda/taller-de-cuina-mona-de-pasqua.html
CLASS:PUBLIC
END:VEVENT
END:VCALENDAR
