BEGIN:VCALENDAR
VERSION:2.0
CALSCALE:GREGORIAN
PRODID:-//Diputació de Barcelona//DibaCMS//EN
BEGIN:VEVENT
UID:58121
DTSTAMP:20260421T165833
DTSTART:20250401T000000
DTEND:20250411T000000
SUMMARY:Exposició - Les aventures de l'editorial Joventut "100 anys de llibres"
LOCATION:
METHOD:PUBLISH
X-WR-CALNAME:info@llinarsdelvalles.cat
X-WR-TIMEZONE:Europe/Madrid
DESCRIPTION:
URI:https://www.llinarsdelvalles.cat/actualitat/agenda/exposicio-les-aventures-de-leditorial-joventut-100-anys-de-llibres.html
CLASS:PUBLIC
END:VEVENT
END:VCALENDAR
