BEGIN:VCALENDAR
VERSION:2.0
CALSCALE:GREGORIAN
PRODID:-//Diputació de Barcelona//DibaCMS//EN
BEGIN:VEVENT
UID:58127
DTSTAMP:20260421T125557
DTSTART:20250424T170000
DTEND:20250424T170000
SUMMARY:Hora del Conte "El Drac, la Rosa i en Jordi"
LOCATION:Av. Pau Casals, 26 08450 Llinars del Vallès
METHOD:PUBLISH
X-WR-CALNAME:info@llinarsdelvalles.cat
X-WR-TIMEZONE:Europe/Madrid
DESCRIPTION:A càrrec d'Enrenou Teatre.

URI:https://www.llinarsdelvalles.cat/actualitat/agenda/hora-del-conte-el-drac-la-rosa-i-en-jordi.html
CLASS:PUBLIC
END:VEVENT
END:VCALENDAR
