BEGIN:VCALENDAR
VERSION:2.0
CALSCALE:GREGORIAN
PRODID:-//Diputació de Barcelona//DibaCMS//EN
BEGIN:VEVENT
UID:58128
DTSTAMP:20260421T153835
DTSTART:20250429T173000
DTEND:20250429T173000
SUMMARY:Story Time "The Trip to Panama"
LOCATION:Av. Pau Casals, 26 08450 Llinars del Vallès
METHOD:PUBLISH
X-WR-CALNAME:info@llinarsdelvalles.cat
X-WR-TIMEZONE:Europe/Madrid
DESCRIPTION:A càrrec de Cambridge School.

URI:https://www.llinarsdelvalles.cat/actualitat/agenda/story-time-the-trip-to-panama.html
CLASS:PUBLIC
END:VEVENT
END:VCALENDAR
