BEGIN:VCALENDAR
VERSION:2.0
CALSCALE:GREGORIAN
PRODID:-//Diputació de Barcelona//DibaCMS//EN
BEGIN:VEVENT
UID:58155
DTSTAMP:20260423T105730
DTSTART:20250604T190000
DTEND:20250604T203000
SUMMARY:Death cafè a Can Lletres
LOCATION:
METHOD:PUBLISH
X-WR-CALNAME:info@llinarsdelvalles.cat
X-WR-TIMEZONE:Europe/Madrid
DESCRIPTION:A càrrec de Mònica Martínez.

URI:https://www.llinarsdelvalles.cat/actualitat/agenda/58155-death-cafe-a-can-lletres.html
CLASS:PUBLIC
END:VEVENT
END:VCALENDAR
