BEGIN:VCALENDAR
VERSION:2.0
CALSCALE:GREGORIAN
PRODID:-//Diputació de Barcelona//DibaCMS//EN
BEGIN:VEVENT
UID:58160
DTSTAMP:20260421T141544
DTSTART:20250426T000000
DTEND:20250518T000000
SUMMARY:Exposició 'Polaridades' de Marcos Zrihen
LOCATION:
METHOD:PUBLISH
X-WR-CALNAME:info@llinarsdelvalles.cat
X-WR-TIMEZONE:Europe/Madrid
DESCRIPTION:Nova exposició a l'Espai d'Art Ruscalleda.
Inauguració: 26 d'abril a les 12 h.

URI:https://www.llinarsdelvalles.cat/actualitat/agenda/exposicio-polaridades-de-marcos-zrihen.html
CLASS:PUBLIC
END:VEVENT
END:VCALENDAR
